BEGIN:VCALENDAR
VERSION:2.0
PRODID:-//pretix//pretix.eu//
BEGIN:VTIMEZONE
TZID:Europe/Vilnius
BEGIN:STANDARD
DTSTART:20000101T000000
RRULE:FREQ=YEARLY;BYMONTH=1;UNTIL=20011231T220000Z
TZNAME:EET
TZOFFSETFROM:+0200
TZOFFSETTO:+0200
END:STANDARD
BEGIN:STANDARD
DTSTART:20031026T050000
RRULE:FREQ=YEARLY;BYDAY=-1SU;BYMONTH=10
TZNAME:EET
TZOFFSETFROM:+0300
TZOFFSETTO:+0200
END:STANDARD
BEGIN:DAYLIGHT
DTSTART:20030330T040000
RRULE:FREQ=YEARLY;BYDAY=-1SU;BYMONTH=3
TZNAME:EEST
TZOFFSETFROM:+0200
TZOFFSETTO:+0300
END:DAYLIGHT
END:VTIMEZONE
BEGIN:VEVENT
UID:pretix-womengotech-conference-0@pretix.womengotech.com
DTSTART;TZID=Europe/Vilnius:20230905T130000
DTEND;TZID=Europe/Vilnius:20230905T170000
DESCRIPTION:Tickets: https://pretix.womengotech.com/conference/\nOrganizer:
  VšĮ Talentai technologijoms
DTSTAMP:20260420T201508Z
LOCATION:Online
SUMMARY:Women Go Tech Conference
END:VEVENT
END:VCALENDAR
